BEGIN:VCALENDAR
VERSION:2.0
PRODID:-//sports-ebooks - ECPv6.0.11//NONSGML v1.0//EN
CALSCALE:GREGORIAN
METHOD:PUBLISH
X-WR-CALNAME:sports-ebooks
X-ORIGINAL-URL:http://sports-ebooks.com
X-WR-CALDESC:Events for sports-ebooks
REFRESH-INTERVAL;VALUE=DURATION:PT1H
X-Robots-Tag:noindex
X-PUBLISHED-TTL:PT1H
BEGIN:VTIMEZONE
TZID:UTC
BEGIN:STANDARD
TZOFFSETFROM:+0000
TZOFFSETTO:+0000
TZNAME:UTC
DTSTART:20230101T000000
END:STANDARD
TZID:Europe/Paris
BEGIN:DAYLIGHT
TZOFFSETFROM:+0100
TZOFFSETTO:+0200
TZNAME:CEST
DTSTART:20230326T010000
END:DAYLIGHT
BEGIN:STANDARD
TZOFFSETFROM:+0200
TZOFFSETTO:+0100
TZNAME:CET
DTSTART:20231029T010000
END:STANDARD
END:VTIMEZONE
BEGIN:VEVENT
DTSTART;TZID=UTC:20230531T080000
DTEND;TZID=UTC:20230531T170000
DTSTAMP:20260421T215125
CREATED:20230421T101822Z
LAST-MODIFIED:20230421T113723Z
UID:2496-1685520000-1685552400@sports-ebooks.com
SUMMARY:UEFA Europa League final
DESCRIPTION:It’s time for the grand finale of the UEFA Nations League in soccer! Get ready for a fierce battle between the best European teams\, which will face each other in the match that decides the title of champion. This is not only an opportunity to see the biggest stars of world soccer on the field\, but also a chance for great entertainment and excitement. Get your flags ready\, sip your favorite beverage and get ready – let’s go!
URL:http://sports-ebooks.com/event/uefa-europa-league-final/
LOCATION:budapest\, Budapest\, Hungary
ATTACH;FMTTYPE=image/webp:http://sports-ebooks.com/wp-content/uploads/2023/04/Europa-League-Final-bars-miami.webp
END:VEVENT
BEGIN:VEVENT
DTSTART;TZID=UTC:20230528T080000
DTEND;TZID=UTC:20230528T170000
DTSTAMP:20260421T215125
CREATED:20230421T102801Z
LAST-MODIFIED:20230421T113119Z
UID:2509-1685260800-1685293200@sports-ebooks.com
SUMMARY:F1: GP Monako
DESCRIPTION:
URL:http://sports-ebooks.com/event/f1-gp-monako/
LOCATION:Monaco\, Monaco
END:VEVENT
BEGIN:VEVENT
DTSTART;TZID=UTC:20230521T080000
DTEND;TZID=UTC:20230521T170000
DTSTAMP:20260421T215125
CREATED:20230421T102541Z
LAST-MODIFIED:20230421T113610Z
UID:2506-1684656000-1684688400@sports-ebooks.com
SUMMARY:French Open
DESCRIPTION:Just a moment more and the most important event for tennis fans – the French Open – will begin! This tournament is for many players one of the biggest challenges of their careers\, and for tennis fans it is an unforgettable celebration of the sport. Get ready for a great show that will give you a lot of emotions and unforgettable experiences. Watch the world’s greatest players compete on the courts of Roland Garros\, fighting for the title of champion. Who will be victorious?
URL:http://sports-ebooks.com/event/french-open/
ATTACH;FMTTYPE=image/png:http://sports-ebooks.com/wp-content/uploads/2023/04/French-Open-2023.png
END:VEVENT
BEGIN:VEVENT
DTSTART;TZID=UTC:20230519T080000
DTEND;TZID=UTC:20230519T170000
DTSTAMP:20260421T215125
CREATED:20230421T102326Z
LAST-MODIFIED:20230421T113510Z
UID:2502-1684483200-1684515600@sports-ebooks.com
SUMMARY:Euroleague basketball final
DESCRIPTION:
URL:http://sports-ebooks.com/event/euroleague-basketball-final/
LOCATION:Kaunas\, Kaunas\, Lithuania
ATTACH;FMTTYPE=image/png:http://sports-ebooks.com/wp-content/uploads/2023/04/35dc3420-f42e-43ab-8ba1-e9d513bb09bc.png
END:VEVENT
BEGIN:VEVENT
DTSTART;TZID=UTC:20230513T080000
DTEND;TZID=UTC:20230513T170000
DTSTAMP:20260421T215125
CREATED:20230421T101617Z
LAST-MODIFIED:20230421T113647Z
UID:2492-1683964800-1683997200@sports-ebooks.com
SUMMARY:Speedway Grand Prix
DESCRIPTION:Get ready for some great excitement\, as one of the most important speedway races in the world is about to take place – the Speedway Grand Prix in Warsaw! This is one of the most anticipated events for fans of the sport\, where the best riders in the world will face each other on the track in the Polish capital. Get ready for a great spectacle that will give you plenty of adrenaline and unforgettable impressions. Watch as the riders take the track at breakneck speed\, competing for every inch of the course. Will Bartosz Zmarzlik\, who is in form\, score another victory on his home track\, or will other riders play major roles? You will only find out if you watch the speedway Grand Prix in Warsaw!
URL:http://sports-ebooks.com/event/speedway-grand-prix/
LOCATION:Warsaw\, Poland\, Poland
ATTACH;FMTTYPE=image/webp:http://sports-ebooks.com/wp-content/uploads/2023/04/01_portal-newsletter_656x369-b439427f-4952-1fe3-7d3d-8f05573ec92c.webp
END:VEVENT
BEGIN:VEVENT
DTSTART;TZID=UTC:20230512T080000
DTEND;TZID=UTC:20230512T080000
DTSTAMP:20260421T215125
CREATED:20230421T100903Z
LAST-MODIFIED:20230421T113542Z
UID:2487-1683878400-1683878400@sports-ebooks.com
SUMMARY:Start World Hockey Championships
DESCRIPTION:Get your leotards ready\, pull your helmets over your heads and get your field hockey sticks in hand\, because the World Hockey Championships are starting on May 12! This is the most important event for field hockey fans around the world\, where the greatest players will face each other on rinks in Finland and Latvia. Expect thrilling duels\, fierce battles for every inch of ice and incredible goals to be scored with incredible fervor. Who will play the main role You will only find out if you watch the World Hockey Championship!
URL:http://sports-ebooks.com/event/start-world-hockey-championships/
ATTACH;FMTTYPE=image/jpeg:http://sports-ebooks.com/wp-content/uploads/2023/04/home-hero-12-28may-v2.jpg
END:VEVENT
BEGIN:VEVENT
DTSTART;TZID=UTC:20230511T080000
DTEND;TZID=UTC:20230511T170000
DTSTAMP:20260421T215125
CREATED:20230421T100702Z
LAST-MODIFIED:20230421T100702Z
UID:2485-1683792000-1683824400@sports-ebooks.com
SUMMARY:Start WRC rally of portugal
DESCRIPTION:
URL:http://sports-ebooks.com/event/start-wrc-rally-of-portugal/
END:VEVENT
BEGIN:VEVENT
DTSTART;TZID=UTC:20230507T080000
DTEND;TZID=UTC:20230507T170000
DTSTAMP:20260421T215125
CREATED:20230421T100628Z
LAST-MODIFIED:20230421T113252Z
UID:2483-1683446400-1683478800@sports-ebooks.com
SUMMARY:F1: GP Miami
DESCRIPTION:One of the hottest Formula One races – the Grand Prix of Miami – will take place today! Hundreds of thousands of fans from all over the world will descend on the sunny city to see the biggest stars of motorsport in action. Get ready for an unforgettable spectacle that will give you plenty of excitement and adrenaline. Watch the drivers take the corners at dizzying speeds\, listen to the roar of the engines and feel the atmosphere of the battle for first place. Who will be victorious? \nCan you smell the burnt rubber and gasoline? It’s a sign that the next round of the WRC World Championship is approaching! This time the drivers will face each other on the demanding and scenic routes of Portugal\, where only the best of the best will succeed. Get ready for an exciting spectacle that will bring you plenty of adrenaline and excitement. Who will take the top spot on the podium?
URL:http://sports-ebooks.com/event/f1-gp-miami/
ATTACH;FMTTYPE=image/png:http://sports-ebooks.com/wp-content/uploads/2023/04/Bez-nazwy.png
END:VEVENT
BEGIN:VEVENT
DTSTART;TZID=UTC:20230506T080000
DTEND;TZID=UTC:20230506T170000
DTSTAMP:20260421T215125
CREATED:20230421T100351Z
LAST-MODIFIED:20230421T113400Z
UID:2481-1683360000-1683392400@sports-ebooks.com
SUMMARY:Giro d’Italia
DESCRIPTION:The next installment of one of the most prestigious cycling races in the world – the Giro d’Italia – is about to begin! Hundreds of riders from all over the world will descend on Italy to face challenging routes\, picturesque landscapes and fierce rivals. Get ready for a thrilling spectacle that will grab you from your seat and make you feel the adrenaline rush during each stage. Will there be an unexpected winner? You will only find out if you watch the next stages of the Giro d’Italia!
URL:http://sports-ebooks.com/event/giro-ditalia/
ATTACH;FMTTYPE=image/jpeg:http://sports-ebooks.com/wp-content/uploads/2023/04/FfSHkCSX0AA1D_e.jpg
END:VEVENT
BEGIN:VEVENT
DTSTART;TZID=Europe/Paris:20230422T010000
DTEND;TZID=Europe/Paris:20230422T020000
DTSTAMP:20260421T215125
CREATED:20230418T085003Z
LAST-MODIFIED:20230421T113836Z
UID:2391-1682125200-1682128800@sports-ebooks.com
SUMMARY:UFC Fight Night: Pavlovich vs. Blayde
DESCRIPTION:
URL:http://sports-ebooks.com/event/ufc-fight-night-pavlovich-vs-blayde/
LOCATION:Las Vegas\, USA\, Las Vegas\, NV\, United States
ATTACH;FMTTYPE=image/jpeg:http://sports-ebooks.com/wp-content/uploads/2023/04/PavlovichBlaydes.jpg
END:VEVENT
END:VCALENDAR